BEGIN:VCALENDAR
VERSION:2.0
PRODID:-//Squarespace Inc/Squarespace 6//v6//EN
BEGIN:VEVENT
UID:5c9100570d9297ad99fa6416@squarespace.com
DTSTAMP:20190319T144719Z
DTSTART:20190503T150000Z
DTEND:20190503T160000Z
SUMMARY:Garden Club of VA Features Milton NC Tour
END:VEVENT
END:VCALENDAR
